BEGIN:VCALENDAR
VERSION:2.0
PRODID:-//ExpressionEngine Easy iCalendar plugin//NONSGML v2.0.0//EN
X-WR-TIMEZONE:America/Chicago
X-WR-CALNAME:Upcoming Auctions
BEGIN:VEVENT
UID:132052
DTSTAMP:20250405T100000
DTSTART:20250405T100000
DTEND:20250405T110000
SUMMARY:Kentucky Derby and Horse Racing Collection Auction
LOCATION:{location}
DESCRIPTION:Bravo Auctioneers Presents:    The Robert Stokhaug Kentu
 cky Derby & Horse Racing Collection | Online Bidding Is Open
  | Live Auction with Online Bidding Begins: Saturday\, Apr
 il 5\, 2025\, at 10 AM CT Featuring 300+ Lots of Premier Kentu
 cky Derby and Horse Racing Memorabilia          
URL:https://www.bravoauctioneers.com/auctions/detail/bw132052
SEQUENCE:1
END:VEVENT
END:VCALENDAR